BEGIN:VCALENDAR
VERSION:2.0
PRODID:-//Church of the Good Shepherd - ECPv6.15.20//NONSGML v1.0//EN
CALSCALE:GREGORIAN
METHOD:PUBLISH
X-WR-CALNAME:Church of the Good Shepherd
X-ORIGINAL-URL:https://goodshepherdenglish.org
X-WR-CALDESC:Events for Church of the Good Shepherd
REFRESH-INTERVAL;VALUE=DURATION:PT1H
X-Robots-Tag:noindex
X-PUBLISHED-TTL:PT1H
BEGIN:VTIMEZONE
TZID:Asia/Singapore
BEGIN:STANDARD
TZOFFSETFROM:+0800
TZOFFSETTO:+0800
TZNAME:+08
DTSTART:20240101T000000
END:STANDARD
END:VTIMEZONE
BEGIN:VEVENT
DTSTART;TZID=Asia/Singapore:20250726T093000
DTEND;TZID=Asia/Singapore:20250726T120000
DTSTAMP:20260422T070722
CREATED:20251016T130951Z
LAST-MODIFIED:20251016T130951Z
UID:10010-1753522200-1753531200@goodshepherdenglish.org
SUMMARY:CGL Meeting (Bi-monthly)
DESCRIPTION:
URL:https://goodshepherdenglish.org/event/cgl-meeting-bi-monthly/
END:VEVENT
BEGIN:VEVENT
DTSTART;TZID=Asia/Singapore:20250725T100000
DTEND;TZID=Asia/Singapore:20250725T120000
DTSTAMP:20260422T070722
CREATED:20251016T125712Z
LAST-MODIFIED:20251016T125712Z
UID:10003-1753437600-1753444800@goodshepherdenglish.org
SUMMARY:Decoupage by ROSES Ladies Ministry
DESCRIPTION:
URL:https://goodshepherdenglish.org/event/decoupage-by-roses-ladies-ministry-4/
LOCATION:Church of the Good Shepherd\, 2 Dundee Road\, Singapore\, 149454\, Singapore
END:VEVENT
BEGIN:VEVENT
DTSTART;TZID=Asia/Singapore:20250705T093000
DTEND;TZID=Asia/Singapore:20250705T113000
DTSTAMP:20260422T070722
CREATED:20251016T105551Z
LAST-MODIFIED:20251016T105551Z
UID:9993-1751707800-1751715000@goodshepherdenglish.org
SUMMARY:CE: book of Revelation
DESCRIPTION:
URL:https://goodshepherdenglish.org/event/ce-book-of-revelation/
END:VEVENT
BEGIN:VEVENT
DTSTART;TZID=Asia/Singapore:20250704T200000
DTEND;TZID=Asia/Singapore:20250704T211500
DTSTAMP:20260422T070722
CREATED:20251016T105234Z
LAST-MODIFIED:20251016T105234Z
UID:9991-1751659200-1751663700@goodshepherdenglish.org
SUMMARY:Church Prayer Meeting
DESCRIPTION:
URL:https://goodshepherdenglish.org/event/church-prayer-meeting-11/
END:VEVENT
BEGIN:VEVENT
DTSTART;TZID=Asia/Singapore:20250704T190000
DTEND;TZID=Asia/Singapore:20250704T213000
DTSTAMP:20260422T070722
CREATED:20251016T125134Z
LAST-MODIFIED:20251016T125134Z
UID:9995-1751655600-1751664600@goodshepherdenglish.org
SUMMARY:Alpha 15th Run - 4 July to 30 Aug
DESCRIPTION:
URL:https://goodshepherdenglish.org/event/alpha-15th-run-4-july-to-30-aug/
END:VEVENT
BEGIN:VEVENT
DTSTART;VALUE=DATE:20250615
DTEND;VALUE=DATE:20250619
DTSTAMP:20260422T070722
CREATED:20251016T130613Z
LAST-MODIFIED:20251016T130613Z
UID:10008-1749945600-1750291199@goodshepherdenglish.org
SUMMARY:COGSE Church Camp
DESCRIPTION:
URL:https://goodshepherdenglish.org/event/cogse-church-camp/
END:VEVENT
BEGIN:VEVENT
DTSTART;TZID=Asia/Singapore:20250607T090000
DTEND;TZID=Asia/Singapore:20250607T120000
DTSTAMP:20260422T070722
CREATED:20251016T125956Z
LAST-MODIFIED:20251016T125956Z
UID:10005-1749286800-1749297600@goodshepherdenglish.org
SUMMARY:Heritage Walk by ROSES Ladies Ministry
DESCRIPTION:
URL:https://goodshepherdenglish.org/event/heritage-walk-by-roses-ladies-ministry/
LOCATION:Chinatown
END:VEVENT
END:VCALENDAR