BEGIN:VCALENDAR
VERSION:2.0
PRODID:-//Church of the Good Shepherd - ECPv6.15.20//NONSGML v1.0//EN
CALSCALE:GREGORIAN
METHOD:PUBLISH
X-WR-CALNAME:Church of the Good Shepherd
X-ORIGINAL-URL:https://goodshepherdenglish.org
X-WR-CALDESC:Events for Church of the Good Shepherd
REFRESH-INTERVAL;VALUE=DURATION:PT1H
X-Robots-Tag:noindex
X-PUBLISHED-TTL:PT1H
BEGIN:VTIMEZONE
TZID:Asia/Singapore
BEGIN:STANDARD
TZOFFSETFROM:+0800
TZOFFSETTO:+0800
TZNAME:+08
DTSTART:20240101T000000
END:STANDARD
END:VTIMEZONE
BEGIN:VEVENT
DTSTART;TZID=Asia/Singapore:20260109T200000
DTEND;TZID=Asia/Singapore:20260109T211500
DTSTAMP:20260422T090919
CREATED:20251211T091042Z
LAST-MODIFIED:20251211T091042Z
UID:10045-1767988800-1767993300@goodshepherdenglish.org
SUMMARY:Church Prayer Meeting
DESCRIPTION:
URL:https://goodshepherdenglish.org/event/church-prayer-meeting-12/
END:VEVENT
BEGIN:VEVENT
DTSTART;TZID=Asia/Singapore:20260104T110000
DTEND;TZID=Asia/Singapore:20260104T140000
DTSTAMP:20260422T090919
CREATED:20251211T100537Z
LAST-MODIFIED:20251211T100537Z
UID:10064-1767524400-1767535200@goodshepherdenglish.org
SUMMARY:COGSE Combined English Service & Celebration Lunch
DESCRIPTION:Being the first Sunday of the year\, this is our combined English service with a church-wide Celebration Lunch as we launch into the new year. We enjoy the fellowship and lunch contributions of various members as we celebrate the new year together. Lunch contributions are welcomed – please email admin@cogsanglican.org to coordinate the contributions.
URL:https://goodshepherdenglish.org/event/cogse-combined-english-service-celebration-lunch/
END:VEVENT
BEGIN:VEVENT
DTSTART;TZID=Asia/Singapore:20251224T223000
DTEND;TZID=Asia/Singapore:20251225T000000
DTSTAMP:20260422T090919
CREATED:20251016T084528Z
LAST-MODIFIED:20251016T084922Z
UID:9976-1766615400-1766620800@goodshepherdenglish.org
SUMMARY:Christmas Eve Special Service
DESCRIPTION:
URL:https://goodshepherdenglish.org/event/christmas-eve-special-service/
LOCATION:Church of the Good Shepherd\, 2 Dundee Road\, Singapore\, 149454\, Singapore
END:VEVENT
BEGIN:VEVENT
DTSTART;TZID=Asia/Singapore:20251221T110000
DTEND;TZID=Asia/Singapore:20251221T123000
DTSTAMP:20260422T090919
CREATED:20251016T131326Z
LAST-MODIFIED:20251016T134446Z
UID:10012-1766314800-1766320200@goodshepherdenglish.org
SUMMARY:Christmas Special - Shepherd's Kidz ministry
DESCRIPTION:
URL:https://goodshepherdenglish.org/event/christmas-special-shepherds-kids-ministry/
LOCATION:Church of the Good Shepherd\, 2 Dundee Road\, Singapore\, 149454\, Singapore
END:VEVENT
BEGIN:VEVENT
DTSTART;VALUE=DATE:20251220
DTEND;VALUE=DATE:20251224
DTSTAMP:20260422T090919
CREATED:20251016T084159Z
LAST-MODIFIED:20251016T084159Z
UID:9974-1766188800-1766534399@goodshepherdenglish.org
SUMMARY:Youth Encounter Camp (Youth Ministry)
DESCRIPTION:Closing date for registration: 23 Nov 2025
URL:https://goodshepherdenglish.org/event/youth-encounter-camp-youth-ministry/
END:VEVENT
BEGIN:VEVENT
DTSTART;VALUE=DATE:20251212
DTEND;VALUE=DATE:20251215
DTSTAMP:20260422T090919
CREATED:20251016T083321Z
LAST-MODIFIED:20251016T083321Z
UID:9972-1765497600-1765756799@goodshepherdenglish.org
SUMMARY:Christmas in Queenstown: Christmas Market & Concerts
DESCRIPTION:Nightly Christmas market in the heart of Queenstown! Come and join us for a fun-filled evening as 2 Dundee Road transforms into a European Christmas market\, complete with food\, drinks\, bouncy castle\, snow and Christmas concerts.
URL:https://goodshepherdenglish.org/event/christmas-in-queenstown-christmas-market-concerts-2/
LOCATION:Church of the Good Shepherd\, 2 Dundee Road\, Singapore\, 149454\, Singapore
END:VEVENT
BEGIN:VEVENT
DTSTART;VALUE=DATE:20251205
DTEND;VALUE=DATE:20251208
DTSTAMP:20260422T090919
CREATED:20251016T083136Z
LAST-MODIFIED:20251016T083136Z
UID:9970-1764892800-1765151999@goodshepherdenglish.org
SUMMARY:Christmas In Queenstown: Christmas Market & Concerts
DESCRIPTION:Nightly Christmas market in the heart of Queenstown! Come and join us for a fun-filled evening as 2 Dundee Road transforms into a European Christmas market\, complete with food\, drinks\, bouncy castle\, snow and Christmas concerts.
URL:https://goodshepherdenglish.org/event/christmas-in-queenstown-christmas-market-concerts/
LOCATION:Church of the Good Shepherd\, 2 Dundee Road\, Singapore\, 149454\, Singapore
END:VEVENT
BEGIN:VEVENT
DTSTART;TZID=Asia/Singapore:20251129T150000
DTEND;TZID=Asia/Singapore:20251129T210000
DTSTAMP:20260422T090919
CREATED:20251016T082413Z
LAST-MODIFIED:20251016T131517Z
UID:9967-1764428400-1764450000@goodshepherdenglish.org
SUMMARY:Christmas Together '25 @ One Holland Village
DESCRIPTION:
URL:https://goodshepherdenglish.org/event/christmas-together-2025-one-holland-village/
LOCATION:One Holland Village\, 7 Holland Village Way\, 275748\, Singapore
END:VEVENT
BEGIN:VEVENT
DTSTART;TZID=Asia/Singapore:20251128T200000
DTEND;TZID=Asia/Singapore:20251128T211500
DTSTAMP:20260422T090919
CREATED:20251016T081540Z
LAST-MODIFIED:20251016T104815Z
UID:9965-1764360000-1764364500@goodshepherdenglish.org
SUMMARY:Church Prayer Meeting
DESCRIPTION:Come and gather together as a church to grow in prayer as we intercede for the Church\, the World and for one another.
URL:https://goodshepherdenglish.org/event/church-prayer-meeting-7/
LOCATION:Church of the Good Shepherd\, 2 Dundee Road\, Singapore\, 149454\, Singapore
END:VEVENT
BEGIN:VEVENT
DTSTART;TZID=Asia/Singapore:20251108T100000
DTEND;TZID=Asia/Singapore:20251108T120000
DTSTAMP:20260422T090919
CREATED:20251016T075909Z
LAST-MODIFIED:20251016T075909Z
UID:9959-1762596000-1762603200@goodshepherdenglish.org
SUMMARY:Evergreen Fellowship: Last Things First
DESCRIPTION:Held at COGS Room C4-03/04. \nSpeaker: Dr Pang Weng Sun
URL:https://goodshepherdenglish.org/event/evergreen-fellowship-last-things-first/
LOCATION:Church of the Good Shepherd\, 2 Dundee Road\, Singapore\, 149454\, Singapore
END:VEVENT
BEGIN:VEVENT
DTSTART;VALUE=DATE:20251108
DTEND;VALUE=DATE:20251110
DTSTAMP:20260422T090919
CREATED:20251016T081232Z
LAST-MODIFIED:20251016T081232Z
UID:9963-1762560000-1762732799@goodshepherdenglish.org
SUMMARY:Meet the Pastor: Sat 2pm & Sun 12.30pm
DESCRIPTION:Come and get to know our pastors and the church better. Whether this is your first visit with us or not\, come and join us for tea/lunch if you wish to more about us. We’d love to get to know you better too!
URL:https://goodshepherdenglish.org/event/meet-the-pastor-sat-2pm-sun-12-30pm/
LOCATION:Church of the Good Shepherd\, 2 Dundee Road\, Singapore\, 149454\, Singapore
END:VEVENT
BEGIN:VEVENT
DTSTART;TZID=Asia/Singapore:20251010T100000
DTEND;TZID=Asia/Singapore:20251010T120000
DTSTAMP:20260422T090919
CREATED:20251016T085252Z
LAST-MODIFIED:20251016T085252Z
UID:9978-1760090400-1760097600@goodshepherdenglish.org
SUMMARY:Decoupage by ROSES Ladies Ministry
DESCRIPTION:
URL:https://goodshepherdenglish.org/event/decoupage-by-roses-ladies-ministry/
LOCATION:Church of the Good Shepherd\, 2 Dundee Road\, Singapore\, 149454\, Singapore
END:VEVENT
BEGIN:VEVENT
DTSTART;TZID=Asia/Singapore:20251004T100000
DTEND;TZID=Asia/Singapore:20251004T120000
DTSTAMP:20260422T090919
CREATED:20251016T075618Z
LAST-MODIFIED:20251016T075618Z
UID:9957-1759572000-1759579200@goodshepherdenglish.org
SUMMARY:Evergreen Fellowship: How Then Shall We Live?
DESCRIPTION:Held at COGS Room C4-03/04 \nSpeaker: Loke Pak Chee
URL:https://goodshepherdenglish.org/event/evergreen-fellowship-how-then-shall-we-live/
LOCATION:Church of the Good Shepherd\, 2 Dundee Road\, Singapore\, 149454\, Singapore
END:VEVENT
BEGIN:VEVENT
DTSTART;TZID=Asia/Singapore:20251003T200000
DTEND;TZID=Asia/Singapore:20251003T211500
DTSTAMP:20260422T090919
CREATED:20251016T104953Z
LAST-MODIFIED:20251016T104953Z
UID:9985-1759521600-1759526100@goodshepherdenglish.org
SUMMARY:Church Prayer Meeting
DESCRIPTION:
URL:https://goodshepherdenglish.org/event/church-prayer-meeting-8/
END:VEVENT
BEGIN:VEVENT
DTSTART;TZID=Asia/Singapore:20250927T093000
DTEND;TZID=Asia/Singapore:20250927T123000
DTSTAMP:20260422T090919
CREATED:20251016T125338Z
LAST-MODIFIED:20251016T125338Z
UID:9997-1758965400-1758976200@goodshepherdenglish.org
SUMMARY:CGL and Ministry Leaders special meeting
DESCRIPTION:Special workshop on Mentoring Conversations by Church Life Resources
URL:https://goodshepherdenglish.org/event/cgl-and-ministry-leaders-special-meeting/
END:VEVENT
BEGIN:VEVENT
DTSTART;TZID=Asia/Singapore:20250926T100000
DTEND;TZID=Asia/Singapore:20250926T120000
DTSTAMP:20260422T090920
CREATED:20251016T125556Z
LAST-MODIFIED:20251016T125556Z
UID:9999-1758880800-1758888000@goodshepherdenglish.org
SUMMARY:Decoupage by ROSES Ladies Ministry
DESCRIPTION:
URL:https://goodshepherdenglish.org/event/decoupage-by-roses-ladies-ministry-2/
LOCATION:Church of the Good Shepherd\, 2 Dundee Road\, Singapore\, 149454\, Singapore
END:VEVENT
BEGIN:VEVENT
DTSTART;TZID=Asia/Singapore:20250905T200000
DTEND;TZID=Asia/Singapore:20250905T211500
DTSTAMP:20260422T090920
CREATED:20251016T105051Z
LAST-MODIFIED:20251016T105051Z
UID:9987-1757102400-1757106900@goodshepherdenglish.org
SUMMARY:Church Prayer Meeting
DESCRIPTION:
URL:https://goodshepherdenglish.org/event/church-prayer-meeting-9/
END:VEVENT
BEGIN:VEVENT
DTSTART;TZID=Asia/Singapore:20250829T100000
DTEND;TZID=Asia/Singapore:20250829T120000
DTSTAMP:20260422T090920
CREATED:20251016T125639Z
LAST-MODIFIED:20251016T125639Z
UID:10001-1756461600-1756468800@goodshepherdenglish.org
SUMMARY:Decoupage by ROSES Ladies Ministry
DESCRIPTION:
URL:https://goodshepherdenglish.org/event/decoupage-by-roses-ladies-ministry-3/
LOCATION:Church of the Good Shepherd\, 2 Dundee Road\, Singapore\, 149454\, Singapore
END:VEVENT
BEGIN:VEVENT
DTSTART;TZID=Asia/Singapore:20250801T200000
DTEND;TZID=Asia/Singapore:20250801T211500
DTSTAMP:20260422T090920
CREATED:20251016T105146Z
LAST-MODIFIED:20251016T105146Z
UID:9989-1754078400-1754082900@goodshepherdenglish.org
SUMMARY:Church Prayer Meeting
DESCRIPTION:
URL:https://goodshepherdenglish.org/event/church-prayer-meeting-10/
END:VEVENT
BEGIN:VEVENT
DTSTART;TZID=Asia/Singapore:20250726T093000
DTEND;TZID=Asia/Singapore:20250726T120000
DTSTAMP:20260422T090920
CREATED:20251016T130951Z
LAST-MODIFIED:20251016T130951Z
UID:10010-1753522200-1753531200@goodshepherdenglish.org
SUMMARY:CGL Meeting (Bi-monthly)
DESCRIPTION:
URL:https://goodshepherdenglish.org/event/cgl-meeting-bi-monthly/
END:VEVENT
BEGIN:VEVENT
DTSTART;TZID=Asia/Singapore:20250725T100000
DTEND;TZID=Asia/Singapore:20250725T120000
DTSTAMP:20260422T090920
CREATED:20251016T125712Z
LAST-MODIFIED:20251016T125712Z
UID:10003-1753437600-1753444800@goodshepherdenglish.org
SUMMARY:Decoupage by ROSES Ladies Ministry
DESCRIPTION:
URL:https://goodshepherdenglish.org/event/decoupage-by-roses-ladies-ministry-4/
LOCATION:Church of the Good Shepherd\, 2 Dundee Road\, Singapore\, 149454\, Singapore
END:VEVENT
BEGIN:VEVENT
DTSTART;TZID=Asia/Singapore:20250705T093000
DTEND;TZID=Asia/Singapore:20250705T113000
DTSTAMP:20260422T090920
CREATED:20251016T105551Z
LAST-MODIFIED:20251016T105551Z
UID:9993-1751707800-1751715000@goodshepherdenglish.org
SUMMARY:CE: book of Revelation
DESCRIPTION:
URL:https://goodshepherdenglish.org/event/ce-book-of-revelation/
END:VEVENT
BEGIN:VEVENT
DTSTART;TZID=Asia/Singapore:20250704T200000
DTEND;TZID=Asia/Singapore:20250704T211500
DTSTAMP:20260422T090920
CREATED:20251016T105234Z
LAST-MODIFIED:20251016T105234Z
UID:9991-1751659200-1751663700@goodshepherdenglish.org
SUMMARY:Church Prayer Meeting
DESCRIPTION:
URL:https://goodshepherdenglish.org/event/church-prayer-meeting-11/
END:VEVENT
BEGIN:VEVENT
DTSTART;TZID=Asia/Singapore:20250704T190000
DTEND;TZID=Asia/Singapore:20250704T213000
DTSTAMP:20260422T090920
CREATED:20251016T125134Z
LAST-MODIFIED:20251016T125134Z
UID:9995-1751655600-1751664600@goodshepherdenglish.org
SUMMARY:Alpha 15th Run - 4 July to 30 Aug
DESCRIPTION:
URL:https://goodshepherdenglish.org/event/alpha-15th-run-4-july-to-30-aug/
END:VEVENT
BEGIN:VEVENT
DTSTART;VALUE=DATE:20250615
DTEND;VALUE=DATE:20250619
DTSTAMP:20260422T090920
CREATED:20251016T130613Z
LAST-MODIFIED:20251016T130613Z
UID:10008-1749945600-1750291199@goodshepherdenglish.org
SUMMARY:COGSE Church Camp
DESCRIPTION:
URL:https://goodshepherdenglish.org/event/cogse-church-camp/
END:VEVENT
BEGIN:VEVENT
DTSTART;TZID=Asia/Singapore:20250607T090000
DTEND;TZID=Asia/Singapore:20250607T120000
DTSTAMP:20260422T090920
CREATED:20251016T125956Z
LAST-MODIFIED:20251016T125956Z
UID:10005-1749286800-1749297600@goodshepherdenglish.org
SUMMARY:Heritage Walk by ROSES Ladies Ministry
DESCRIPTION:
URL:https://goodshepherdenglish.org/event/heritage-walk-by-roses-ladies-ministry/
LOCATION:Chinatown
END:VEVENT
END:VCALENDAR