BEGIN:VCALENDAR
VERSION:2.0
PRODID:-//Church of the Good Shepherd - ECPv6.15.20//NONSGML v1.0//EN
CALSCALE:GREGORIAN
METHOD:PUBLISH
X-ORIGINAL-URL:https://goodshepherdenglish.org
X-WR-CALDESC:Events for Church of the Good Shepherd
REFRESH-INTERVAL;VALUE=DURATION:PT1H
X-Robots-Tag:noindex
X-PUBLISHED-TTL:PT1H
BEGIN:VTIMEZONE
TZID:Asia/Singapore
BEGIN:STANDARD
TZOFFSETFROM:+0800
TZOFFSETTO:+0800
TZNAME:+08
DTSTART:20250101T000000
END:STANDARD
END:VTIMEZONE
BEGIN:VEVENT
DTSTART;TZID=Asia/Singapore:20260306T190000
DTEND;TZID=Asia/Singapore:20260306T213000
DTSTAMP:20260422T051916
CREATED:20251211T093124Z
LAST-MODIFIED:20251211T093124Z
UID:10055-1772823600-1772832600@goodshepherdenglish.org
SUMMARY:Alpha course (Friday nights: 6 Mar - 29 May)
DESCRIPTION:The Alpha course is a series of sessions exploring the Christian faith in an open\, friendly environment. \nThe Alpha talks are designed to engage people from all walks of life and inspire conversation. Connect with others in the same journey\, explore the big questions of life\, and unpack the basics of the Christian faith.
URL:https://goodshepherdenglish.org/event/alpha-course-friday-nights-6-mar-29-may/
END:VEVENT
BEGIN:VEVENT
DTSTART;TZID=Asia/Singapore:20260306T200000
DTEND;TZID=Asia/Singapore:20260306T211500
DTSTAMP:20260422T051916
CREATED:20251211T091336Z
LAST-MODIFIED:20251211T091336Z
UID:10049-1772827200-1772831700@goodshepherdenglish.org
SUMMARY:Church Prayer Meeting
DESCRIPTION:
URL:https://goodshepherdenglish.org/event/church-prayer-meeting-14/
END:VEVENT
BEGIN:VEVENT
DTSTART;TZID=Asia/Singapore:20260314T093000
DTEND;TZID=Asia/Singapore:20260314T113000
DTSTAMP:20260422T051916
CREATED:20251211T093506Z
LAST-MODIFIED:20251211T093506Z
UID:10057-1773480600-1773487800@goodshepherdenglish.org
SUMMARY:Evergreen Fellowship
DESCRIPTION:The Evergreen Fellowship is a gathering of Boomers and Gen X’s to fellowship\, learn and grow together in “Ageing Well\, Living Well\, Finishing Well.”
URL:https://goodshepherdenglish.org/event/evergreen-fellowship/
END:VEVENT
BEGIN:VEVENT
DTSTART;TZID=Asia/Singapore:20260321T093000
DTEND;TZID=Asia/Singapore:20260321T123000
DTSTAMP:20260422T051916
CREATED:20260318T073824Z
LAST-MODIFIED:20260318T080834Z
UID:10096-1774085400-1774096200@goodshepherdenglish.org
SUMMARY:CGL Meeting
DESCRIPTION:This meeting involves all CGLs and assistant CGLs as well as CG Ministry Core Team members. Goal is to encourage and be encouraged\, even as we pray for one another\, share resources & best practices\, and reinforce church vision & plans ahead.
URL:https://goodshepherdenglish.org/event/cgl-meeting/
LOCATION:Church of the Good Shepherd\, 2 Dundee Road\, Singapore\, 149454\, Singapore
END:VEVENT
BEGIN:VEVENT
DTSTART;VALUE=DATE:20260328
DTEND;VALUE=DATE:20260329
DTSTAMP:20260422T051916
CREATED:20251211T094010Z
LAST-MODIFIED:20251211T094010Z
UID:10059-1774656000-1774742399@goodshepherdenglish.org
SUMMARY:Heritage Walk by ROSES Ministry
DESCRIPTION:This is a guided Heritage Walk organised by the ROSES Ministry. All are welcome to register and join in the fun of exploring Singapore’s multicultural roots\, historical buildings\, and local life.
URL:https://goodshepherdenglish.org/event/heritage-walk-by-roses-ministry/
END:VEVENT
BEGIN:VEVENT
DTSTART;TZID=Asia/Singapore:20260402T200000
DTEND;TZID=Asia/Singapore:20260402T213000
DTSTAMP:20260422T051916
CREATED:20260318T074224Z
LAST-MODIFIED:20260318T074224Z
UID:10100-1775160000-1775165400@goodshepherdenglish.org
SUMMARY:Maundy Thursday Service - Combined Service (Bilingual)
DESCRIPTION:
URL:https://goodshepherdenglish.org/event/maundy-thursday-service-combined-service-bilingual/
LOCATION:Church of the Good Shepherd\, 2 Dundee Road\, Singapore\, 149454\, Singapore
END:VEVENT
BEGIN:VEVENT
DTSTART;TZID=Asia/Singapore:20260403T110000
DTEND;TZID=Asia/Singapore:20260403T123000
DTSTAMP:20260422T051916
CREATED:20260318T074348Z
LAST-MODIFIED:20260318T074348Z
UID:10102-1775214000-1775219400@goodshepherdenglish.org
SUMMARY:Good Friday Meditations
DESCRIPTION:A series of meditations based on John 18 “Confronted by Christ”
URL:https://goodshepherdenglish.org/event/good-friday-meditations/
LOCATION:Church of the Good Shepherd\, 2 Dundee Road\, Singapore\, 149454\, Singapore
END:VEVENT
BEGIN:VEVENT
DTSTART;TZID=Asia/Singapore:20260404T093000
DTEND;TZID=Asia/Singapore:20260404T120000
DTSTAMP:20260422T051916
CREATED:20260318T074822Z
LAST-MODIFIED:20260321T072945Z
UID:10106-1775295000-1775304000@goodshepherdenglish.org
SUMMARY:Evergreen Fellowship
DESCRIPTION:The Evergreen Fellowship is a gathering of Boomers and Gen X’s to fellowship\, learn and grow together in “Ageing Well\, Living Well\, Finishing Well.” This month\, the talk will be on: \n“Functional Exercise for Healthy Ageing”
URL:https://goodshepherdenglish.org/event/evergreen-fellowship-2/
LOCATION:Church of the Good Shepherd\, 2 Dundee Road\, Singapore\, 149454\, Singapore
END:VEVENT
BEGIN:VEVENT
DTSTART;TZID=Asia/Singapore:20260405T110000
DTEND;TZID=Asia/Singapore:20260405T123000
DTSTAMP:20260422T051916
CREATED:20260318T074622Z
LAST-MODIFIED:20260318T074622Z
UID:10104-1775386800-1775392200@goodshepherdenglish.org
SUMMARY:Easter Gospel Sunday
DESCRIPTION:“Confronted by the Empty Tomb” \nCome and discover why this is the greatest day in history\, when the tomb was discovered to be empty!
URL:https://goodshepherdenglish.org/event/easter-gospel-sunday/
LOCATION:Church of the Good Shepherd\, 2 Dundee Road\, Singapore\, 149454\, Singapore
END:VEVENT
BEGIN:VEVENT
DTSTART;TZID=Asia/Singapore:20260410T200000
DTEND;TZID=Asia/Singapore:20260410T213000
DTSTAMP:20260422T051916
CREATED:20260318T074009Z
LAST-MODIFIED:20260318T074944Z
UID:10098-1775851200-1775856600@goodshepherdenglish.org
SUMMARY:Church Prayer Meeting
DESCRIPTION:
URL:https://goodshepherdenglish.org/event/church-prayer-meeting-15/
LOCATION:Church of the Good Shepherd\, 2 Dundee Road\, Singapore\, 149454\, Singapore
END:VEVENT
BEGIN:VEVENT
DTSTART;TZID=Asia/Singapore:20260426T121500
DTEND;TZID=Asia/Singapore:20260426T133000
DTSTAMP:20260422T051916
CREATED:20260318T081335Z
LAST-MODIFIED:20260318T081444Z
UID:10124-1777205700-1777210200@goodshepherdenglish.org
SUMMARY:COGSE AGM
DESCRIPTION:This is our Annual General Meeting for all members on Electoral Roll. Please check and send in your registration to be on the Church Electoral Roll as it is on an “Opt-In” basis that is managed through the Diocese of Singapore office.
URL:https://goodshepherdenglish.org/event/cogse-agm/
LOCATION:Church of the Good Shepherd\, 2 Dundee Road\, Singapore\, 149454\, Singapore
END:VEVENT
BEGIN:VEVENT
DTSTART;TZID=Asia/Singapore:20260508T200000
DTEND;TZID=Asia/Singapore:20260508T213000
DTSTAMP:20260422T051916
CREATED:20260318T075025Z
LAST-MODIFIED:20260318T075025Z
UID:10108-1778270400-1778275800@goodshepherdenglish.org
SUMMARY:Church Prayer Meeting
DESCRIPTION:This is our monthly Church-wide Prayer Meeting\, usually held 1st Friday night of every month (except June and December).
URL:https://goodshepherdenglish.org/event/church-prayer-meeting-16/
LOCATION:Church of the Good Shepherd\, 2 Dundee Road\, Singapore\, 149454\, Singapore
END:VEVENT
BEGIN:VEVENT
DTSTART;VALUE=DATE:20260509
DTEND;VALUE=DATE:20260510
DTSTAMP:20260422T051916
CREATED:20260318T081023Z
LAST-MODIFIED:20260318T081023Z
UID:10122-1778284800-1778371199@goodshepherdenglish.org
SUMMARY:Youth Alpha (Saturdays 9 May - 27 June)
DESCRIPTION:The Alpha course is a series of sessions exploring the Christian faith in an open\, friendly environment. \nThe Alpha talks are designed to engage people from all walks of life and inspire conversation. Connect with others in the same journey\, explore the big questions of life\, and unpack the basics of the Christian faith.
URL:https://goodshepherdenglish.org/event/youth-alpha-saturdays-9-may-27-june/
LOCATION:Church of the Good Shepherd\, 2 Dundee Road\, Singapore\, 149454\, Singapore
END:VEVENT
BEGIN:VEVENT
DTSTART;TZID=Asia/Singapore:20260509T093000
DTEND;TZID=Asia/Singapore:20260509T120000
DTSTAMP:20260422T051916
CREATED:20260318T075212Z
LAST-MODIFIED:20260318T075212Z
UID:10110-1778319000-1778328000@goodshepherdenglish.org
SUMMARY:Evergreen Fellowship
DESCRIPTION:The Evergreen Fellowship is a gathering of Boomers and Gen X’s to fellowship\, learn and grow together in “Ageing Well\, Living Well\, Finishing Well.”
URL:https://goodshepherdenglish.org/event/evergreen-fellowship-3/
LOCATION:Church of the Good Shepherd\, 2 Dundee Road\, Singapore\, 149454\, Singapore
END:VEVENT
BEGIN:VEVENT
DTSTART;TZID=Asia/Singapore:20260509T100000
DTEND;TZID=Asia/Singapore:20260509T120000
DTSTAMP:20260422T051916
CREATED:20260318T080102Z
LAST-MODIFIED:20260318T083549Z
UID:10118-1778320800-1778328000@goodshepherdenglish.org
SUMMARY:Floral Arrangement Workshop
DESCRIPTION:Come and learn how to make various floral arrangements as we learn together by sharing techniques and ideas. This is perfect for Mothers’ Day around the corner!
URL:https://goodshepherdenglish.org/event/floral-arrangement-workshop/
LOCATION:Church of the Good Shepherd\, 2 Dundee Road\, Singapore\, 149454\, Singapore
END:VEVENT
BEGIN:VEVENT
DTSTART;VALUE=DATE:20260523
DTEND;VALUE=DATE:20260525
DTSTAMP:20260422T051916
CREATED:20260318T075522Z
LAST-MODIFIED:20260318T075522Z
UID:10114-1779494400-1779667199@goodshepherdenglish.org
SUMMARY:Meet The Pastor: Sat 2pm & Sun 12.30pm
DESCRIPTION:Come and get to know our pastors and the church better. Whether this is your first visit with us or not\, come and join us for tea/lunch if you wish to more about us. We’d love to get to know you better too!
URL:https://goodshepherdenglish.org/event/meet-the-pastor-sat-2pm-sun-12-30pm-3/
LOCATION:Church of the Good Shepherd\, 2 Dundee Road\, Singapore\, 149454\, Singapore
END:VEVENT
BEGIN:VEVENT
DTSTART;TZID=Asia/Singapore:20260523T093000
DTEND;TZID=Asia/Singapore:20260523T120000
DTSTAMP:20260422T051916
CREATED:20260318T075352Z
LAST-MODIFIED:20260318T080809Z
UID:10112-1779528600-1779537600@goodshepherdenglish.org
SUMMARY:CGL Meeting
DESCRIPTION:This meeting involves all CGLs and assistant CGLs as well as CG Ministry Core Team members. Goal is to encourage and be encouraged\, even as we pray for one another\, share resources & best practices\, and reinforce church vision & plans ahead.
URL:https://goodshepherdenglish.org/event/cgl-meeting-2/
LOCATION:Church of the Good Shepherd\, 2 Dundee Road\, Singapore\, 149454\, Singapore
END:VEVENT
BEGIN:VEVENT
DTSTART;TZID=Asia/Singapore:20260527T090000
DTEND;TZID=Asia/Singapore:20260527T120000
DTSTAMP:20260422T051916
CREATED:20260318T075803Z
LAST-MODIFIED:20260318T075803Z
UID:10116-1779872400-1779883200@goodshepherdenglish.org
SUMMARY:COGS Day Out!
DESCRIPTION:This is a church-wide day out to have fun and fellowship together. Set aside this morning to ‘chill out’ with the church family. The family that plays together\, stays together!
URL:https://goodshepherdenglish.org/event/cogs-day-out/
END:VEVENT
END:VCALENDAR