BEGIN:VCALENDAR
VERSION:2.0
PRODID:-//Church of the Good Shepherd - ECPv6.15.20//NONSGML v1.0//EN
CALSCALE:GREGORIAN
METHOD:PUBLISH
X-WR-CALNAME:Church of the Good Shepherd
X-ORIGINAL-URL:https://goodshepherdenglish.org
X-WR-CALDESC:Events for Church of the Good Shepherd
REFRESH-INTERVAL;VALUE=DURATION:PT1H
X-Robots-Tag:noindex
X-PUBLISHED-TTL:PT1H
BEGIN:VTIMEZONE
TZID:Asia/Singapore
BEGIN:STANDARD
TZOFFSETFROM:+0800
TZOFFSETTO:+0800
TZNAME:+08
DTSTART:20250101T000000
END:STANDARD
END:VTIMEZONE
BEGIN:VEVENT
DTSTART;VALUE=DATE:20260509
DTEND;VALUE=DATE:20260510
DTSTAMP:20260421T200635
CREATED:20260318T081023Z
LAST-MODIFIED:20260318T081023Z
UID:10122-1778284800-1778371199@goodshepherdenglish.org
SUMMARY:Youth Alpha (Saturdays 9 May - 27 June)
DESCRIPTION:The Alpha course is a series of sessions exploring the Christian faith in an open\, friendly environment. \nThe Alpha talks are designed to engage people from all walks of life and inspire conversation. Connect with others in the same journey\, explore the big questions of life\, and unpack the basics of the Christian faith.
URL:https://goodshepherdenglish.org/event/youth-alpha-saturdays-9-may-27-june/
LOCATION:Church of the Good Shepherd\, 2 Dundee Road\, Singapore\, 149454\, Singapore
END:VEVENT
BEGIN:VEVENT
DTSTART;TZID=Asia/Singapore:20260509T093000
DTEND;TZID=Asia/Singapore:20260509T120000
DTSTAMP:20260421T200635
CREATED:20260318T075212Z
LAST-MODIFIED:20260318T075212Z
UID:10110-1778319000-1778328000@goodshepherdenglish.org
SUMMARY:Evergreen Fellowship
DESCRIPTION:The Evergreen Fellowship is a gathering of Boomers and Gen X’s to fellowship\, learn and grow together in “Ageing Well\, Living Well\, Finishing Well.”
URL:https://goodshepherdenglish.org/event/evergreen-fellowship-3/
LOCATION:Church of the Good Shepherd\, 2 Dundee Road\, Singapore\, 149454\, Singapore
END:VEVENT
BEGIN:VEVENT
DTSTART;TZID=Asia/Singapore:20260509T100000
DTEND;TZID=Asia/Singapore:20260509T120000
DTSTAMP:20260421T200635
CREATED:20260318T080102Z
LAST-MODIFIED:20260318T083549Z
UID:10118-1778320800-1778328000@goodshepherdenglish.org
SUMMARY:Floral Arrangement Workshop
DESCRIPTION:Come and learn how to make various floral arrangements as we learn together by sharing techniques and ideas. This is perfect for Mothers’ Day around the corner!
URL:https://goodshepherdenglish.org/event/floral-arrangement-workshop/
LOCATION:Church of the Good Shepherd\, 2 Dundee Road\, Singapore\, 149454\, Singapore
END:VEVENT
END:VCALENDAR