BEGIN:VCALENDAR
VERSION:2.0
PRODID:-//Church of the Good Shepherd - ECPv6.15.20//NONSGML v1.0//EN
CALSCALE:GREGORIAN
METHOD:PUBLISH
X-WR-CALNAME:Church of the Good Shepherd
X-ORIGINAL-URL:https://goodshepherdenglish.org
X-WR-CALDESC:Events for Church of the Good Shepherd
REFRESH-INTERVAL;VALUE=DURATION:PT1H
X-Robots-Tag:noindex
X-PUBLISHED-TTL:PT1H
BEGIN:VTIMEZONE
TZID:Asia/Singapore
BEGIN:STANDARD
TZOFFSETFROM:+0800
TZOFFSETTO:+0800
TZNAME:+08
DTSTART:20250101T000000
END:STANDARD
END:VTIMEZONE
BEGIN:VEVENT
DTSTART;TZID=Asia/Singapore:20260508T200000
DTEND;TZID=Asia/Singapore:20260508T213000
DTSTAMP:20260421T195723
CREATED:20260318T075025Z
LAST-MODIFIED:20260318T075025Z
UID:10108-1778270400-1778275800@goodshepherdenglish.org
SUMMARY:Church Prayer Meeting
DESCRIPTION:This is our monthly Church-wide Prayer Meeting\, usually held 1st Friday night of every month (except June and December).
URL:https://goodshepherdenglish.org/event/church-prayer-meeting-16/
LOCATION:Church of the Good Shepherd\, 2 Dundee Road\, Singapore\, 149454\, Singapore
END:VEVENT
END:VCALENDAR