BEGIN:VCALENDAR
VERSION:2.0
PRODID:-//Church of the Good Shepherd - ECPv6.15.20//NONSGML v1.0//EN
CALSCALE:GREGORIAN
METHOD:PUBLISH
X-ORIGINAL-URL:https://goodshepherdenglish.org
X-WR-CALDESC:Events for Church of the Good Shepherd
REFRESH-INTERVAL;VALUE=DURATION:PT1H
X-Robots-Tag:noindex
X-PUBLISHED-TTL:PT1H
BEGIN:VTIMEZONE
TZID:Asia/Singapore
BEGIN:STANDARD
TZOFFSETFROM:+0800
TZOFFSETTO:+0800
TZNAME:+08
DTSTART:20250101T000000
END:STANDARD
END:VTIMEZONE
BEGIN:VEVENT
DTSTART;TZID=Asia/Singapore:20260321T093000
DTEND;TZID=Asia/Singapore:20260321T123000
DTSTAMP:20260421T195904
CREATED:20260318T073824Z
LAST-MODIFIED:20260318T080834Z
UID:10096-1774085400-1774096200@goodshepherdenglish.org
SUMMARY:CGL Meeting
DESCRIPTION:This meeting involves all CGLs and assistant CGLs as well as CG Ministry Core Team members. Goal is to encourage and be encouraged\, even as we pray for one another\, share resources & best practices\, and reinforce church vision & plans ahead.
URL:https://goodshepherdenglish.org/event/cgl-meeting/
LOCATION:Church of the Good Shepherd\, 2 Dundee Road\, Singapore\, 149454\, Singapore
END:VEVENT
END:VCALENDAR